BEGIN:VCALENDAR
VERSION:2.0
PRODID:-//Schützenverein Mimberg 1972 e.V. - ECPv6.9.1//NONSGML v1.0//EN
CALSCALE:GREGORIAN
METHOD:PUBLISH
X-ORIGINAL-URL:https://schuetzenvereinmimberg.de
X-WR-CALDESC:Veranstaltungen für Schützenverein Mimberg 1972 e.V.
REFRESH-INTERVAL;VALUE=DURATION:PT1H
X-Robots-Tag:noindex
X-PUBLISHED-TTL:PT1H
BEGIN:VTIMEZONE
TZID:Europe/Berlin
BEGIN:DAYLIGHT
TZOFFSETFROM:+0100
TZOFFSETTO:+0200
TZNAME:CEST
DTSTART:20260329T010000
END:DAYLIGHT
BEGIN:STANDARD
TZOFFSETFROM:+0200
TZOFFSETTO:+0100
TZNAME:CET
DTSTART:20261025T010000
END:STANDARD
END:VTIMEZONE
BEGIN:VEVENT
DTSTART;TZID=Europe/Berlin:20260217T190000
DTEND;TZID=Europe/Berlin:20260217T220000
DTSTAMP:20260420T110700
CREATED:20260112T190130Z
LAST-MODIFIED:20260112T190130Z
UID:1992-1771354800-1771365600@schuetzenvereinmimberg.de
SUMMARY:Faschingsdienstag: Surbauch mit Kraut / Ofenkäse
DESCRIPTION:Bitte vorab per E-Mail anmelden.
URL:https://schuetzenvereinmimberg.de/termin/faschingsdienstag-surbauch-mit-kraut-ofenkaese/
LOCATION:Schützenhaus Mimberg\, Mimberger Str. 99\, Burgthann\, 90559\, Deutschland
CATEGORIES:Öffentliche Veranstaltung,Training
END:VEVENT
BEGIN:VEVENT
DTSTART;TZID=Europe/Berlin:20260226T190000
DTEND;TZID=Europe/Berlin:20260226T210000
DTSTAMP:20260420T110700
CREATED:20260102T210434Z
LAST-MODIFIED:20260102T210434Z
UID:1963-1772132400-1772139600@schuetzenvereinmimberg.de
SUMMARY:Kleiner Arbeitsdienst (Pulveranlage)
DESCRIPTION:
URL:https://schuetzenvereinmimberg.de/termin/kleiner-arbeitsdienst-pulveranlage-3/
LOCATION:Schützenhaus Mimberg\, Mimberger Str. 99\, Burgthann\, 90559\, Deutschland
CATEGORIES:Arbeitsdienst
END:VEVENT
END:VCALENDAR